BEGIN:VCALENDAR
VERSION:2.0
PRODID:-//Historical Beaver Dam Lodge - ECPv6.15.20//NONSGML v1.0//EN
CALSCALE:GREGORIAN
METHOD:PUBLISH
X-WR-CALNAME:Historical Beaver Dam Lodge
X-ORIGINAL-URL:https://historicalbeaverdamlodge.com
X-WR-CALDESC:Events for Historical Beaver Dam Lodge
REFRESH-INTERVAL;VALUE=DURATION:PT1H
X-Robots-Tag:noindex
X-PUBLISHED-TTL:PT1H
BEGIN:VTIMEZONE
TZID:America/Phoenix
BEGIN:STANDARD
TZOFFSETFROM:-0700
TZOFFSETTO:-0700
TZNAME:MST
DTSTART:20200101T000000
END:STANDARD
END:VTIMEZONE
BEGIN:VEVENT
DTSTART;VALUE=DATE:20211225
DTEND;VALUE=DATE:20211227
DTSTAMP:20260422T202026
CREATED:20211130T043218Z
LAST-MODIFIED:20211130T043443Z
UID:1804-1640394000-1640480399@historicalbeaverdamlodge.com
SUMMARY:Christmas- Closed
DESCRIPTION:We will be closed on Christmas\, so our staff may spend the day with their families.
URL:https://historicalbeaverdamlodge.com/event/christmas-closed/
LOCATION:Historical Beaver Dam Lodge\, 452 Old Highway 91 North\, Beaver Dam\, AZ\, 86432\, United States
CATEGORIES:Closed
END:VEVENT
BEGIN:VEVENT
DTSTART;VALUE=DATE:20211125
DTEND;VALUE=DATE:20211127
DTSTAMP:20260422T202026
CREATED:20211112T205510Z
LAST-MODIFIED:20211130T043443Z
UID:1751-1637802000-1637888399@historicalbeaverdamlodge.com
SUMMARY:Resort Closed
DESCRIPTION:Our resort will be closed today\, so that our staff can enjoy Thanksgiving with their families.
URL:https://historicalbeaverdamlodge.com/event/resort-closed/
LOCATION:Historical Beaver Dam Lodge\, 452 Old Highway 91 North\, Beaver Dam\, AZ\, 86432\, United States
CATEGORIES:Closed
END:VEVENT
END:VCALENDAR