BEGIN:VCALENDAR
VERSION:2.0
PRODID:-//Historical Beaver Dam Lodge - ECPv6.15.20//NONSGML v1.0//EN
CALSCALE:GREGORIAN
METHOD:PUBLISH
X-WR-CALNAME:Historical Beaver Dam Lodge
X-ORIGINAL-URL:https://historicalbeaverdamlodge.com
X-WR-CALDESC:Events for Historical Beaver Dam Lodge
REFRESH-INTERVAL;VALUE=DURATION:PT1H
X-Robots-Tag:noindex
X-PUBLISHED-TTL:PT1H
BEGIN:VTIMEZONE
TZID:America/Phoenix
BEGIN:STANDARD
TZOFFSETFROM:-0700
TZOFFSETTO:-0700
TZNAME:MST
DTSTART:20210101T000000
END:STANDARD
END:VTIMEZONE
BEGIN:VEVENT
DTSTART;TZID=America/Phoenix:20220906T183000
DTEND;TZID=America/Phoenix:20220906T213000
DTSTAMP:20260425T164604
CREATED:20220202T205505Z
LAST-MODIFIED:20220202T205505Z
UID:2362-1662489000-1662499800@historicalbeaverdamlodge.com
SUMMARY:Dinner Special
DESCRIPTION:
URL:https://historicalbeaverdamlodge.com/event/dinner-special-2022-09-06/
LOCATION:Historical Beaver Dam Lodge\, 452 Old Highway 91 North\, Beaver Dam\, AZ\, 86432\, United States
CATEGORIES:Food Special
END:VEVENT
BEGIN:VEVENT
DTSTART;TZID=America/Phoenix:20220903T183000
DTEND;TZID=America/Phoenix:20220903T213000
DTSTAMP:20260425T164604
CREATED:20220202T205505Z
LAST-MODIFIED:20220202T205505Z
UID:2280-1662229800-1662240600@historicalbeaverdamlodge.com
SUMMARY:Dinner Special
DESCRIPTION:
URL:https://historicalbeaverdamlodge.com/event/dinner-special-2022-09-03/
LOCATION:Historical Beaver Dam Lodge\, 452 Old Highway 91 North\, Beaver Dam\, AZ\, 86432\, United States
CATEGORIES:Food Special
END:VEVENT
BEGIN:VEVENT
DTSTART;TZID=America/Phoenix:20220902T180000
DTEND;TZID=America/Phoenix:20220902T210000
DTSTAMP:20260425T164604
CREATED:20220202T205505Z
LAST-MODIFIED:20220202T205505Z
UID:2279-1662141600-1662152400@historicalbeaverdamlodge.com
SUMMARY:Dinner Special
DESCRIPTION:
URL:https://historicalbeaverdamlodge.com/event/dinner-special-2022-09-02/
LOCATION:Historical Beaver Dam Lodge\, 452 Old Highway 91 North\, Beaver Dam\, AZ\, 86432\, United States
CATEGORIES:Food Special
END:VEVENT
BEGIN:VEVENT
DTSTART;TZID=America/Phoenix:20220830T183000
DTEND;TZID=America/Phoenix:20220830T213000
DTSTAMP:20260425T164604
CREATED:20220202T205505Z
LAST-MODIFIED:20220202T205505Z
UID:2361-1661884200-1661895000@historicalbeaverdamlodge.com
SUMMARY:Dinner Special
DESCRIPTION:
URL:https://historicalbeaverdamlodge.com/event/dinner-special-2022-08-30/
LOCATION:Historical Beaver Dam Lodge\, 452 Old Highway 91 North\, Beaver Dam\, AZ\, 86432\, United States
CATEGORIES:Food Special
END:VEVENT
BEGIN:VEVENT
DTSTART;TZID=America/Phoenix:20220827T183000
DTEND;TZID=America/Phoenix:20220827T213000
DTSTAMP:20260425T164604
CREATED:20220202T205505Z
LAST-MODIFIED:20220202T205505Z
UID:2277-1661625000-1661635800@historicalbeaverdamlodge.com
SUMMARY:Dinner Special
DESCRIPTION:
URL:https://historicalbeaverdamlodge.com/event/dinner-special-2022-08-27/
LOCATION:Historical Beaver Dam Lodge\, 452 Old Highway 91 North\, Beaver Dam\, AZ\, 86432\, United States
CATEGORIES:Food Special
END:VEVENT
BEGIN:VEVENT
DTSTART;TZID=America/Phoenix:20220826T180000
DTEND;TZID=America/Phoenix:20220826T210000
DTSTAMP:20260425T164604
CREATED:20220202T205505Z
LAST-MODIFIED:20220202T205505Z
UID:2276-1661536800-1661547600@historicalbeaverdamlodge.com
SUMMARY:Dinner Special
DESCRIPTION:
URL:https://historicalbeaverdamlodge.com/event/dinner-special-2022-08-26/
LOCATION:Historical Beaver Dam Lodge\, 452 Old Highway 91 North\, Beaver Dam\, AZ\, 86432\, United States
CATEGORIES:Food Special
END:VEVENT
BEGIN:VEVENT
DTSTART;TZID=America/Phoenix:20220823T183000
DTEND;TZID=America/Phoenix:20220823T213000
DTSTAMP:20260425T164604
CREATED:20220202T205505Z
LAST-MODIFIED:20220202T205505Z
UID:2360-1661279400-1661290200@historicalbeaverdamlodge.com
SUMMARY:Dinner Special
DESCRIPTION:
URL:https://historicalbeaverdamlodge.com/event/dinner-special-2022-08-23/
LOCATION:Historical Beaver Dam Lodge\, 452 Old Highway 91 North\, Beaver Dam\, AZ\, 86432\, United States
CATEGORIES:Food Special
END:VEVENT
BEGIN:VEVENT
DTSTART;TZID=America/Phoenix:20220820T183000
DTEND;TZID=America/Phoenix:20220820T213000
DTSTAMP:20260425T164604
CREATED:20220202T205505Z
LAST-MODIFIED:20220202T205505Z
UID:2274-1661020200-1661031000@historicalbeaverdamlodge.com
SUMMARY:Dinner Special
DESCRIPTION:
URL:https://historicalbeaverdamlodge.com/event/dinner-special-2022-08-20/
LOCATION:Historical Beaver Dam Lodge\, 452 Old Highway 91 North\, Beaver Dam\, AZ\, 86432\, United States
CATEGORIES:Food Special
END:VEVENT
BEGIN:VEVENT
DTSTART;TZID=America/Phoenix:20220819T180000
DTEND;TZID=America/Phoenix:20220819T210000
DTSTAMP:20260425T164604
CREATED:20220202T205505Z
LAST-MODIFIED:20220202T205505Z
UID:2273-1660932000-1660942800@historicalbeaverdamlodge.com
SUMMARY:Dinner Special
DESCRIPTION:
URL:https://historicalbeaverdamlodge.com/event/dinner-special-2022-08-19/
LOCATION:Historical Beaver Dam Lodge\, 452 Old Highway 91 North\, Beaver Dam\, AZ\, 86432\, United States
CATEGORIES:Food Special
END:VEVENT
BEGIN:VEVENT
DTSTART;TZID=America/Phoenix:20220816T183000
DTEND;TZID=America/Phoenix:20220816T213000
DTSTAMP:20260425T164604
CREATED:20220202T205505Z
LAST-MODIFIED:20220202T205505Z
UID:2359-1660674600-1660685400@historicalbeaverdamlodge.com
SUMMARY:Dinner Special
DESCRIPTION:
URL:https://historicalbeaverdamlodge.com/event/dinner-special-2022-08-16/
LOCATION:Historical Beaver Dam Lodge\, 452 Old Highway 91 North\, Beaver Dam\, AZ\, 86432\, United States
CATEGORIES:Food Special
END:VEVENT
BEGIN:VEVENT
DTSTART;TZID=America/Phoenix:20220813T183000
DTEND;TZID=America/Phoenix:20220813T213000
DTSTAMP:20260425T164604
CREATED:20220202T205505Z
LAST-MODIFIED:20220202T205505Z
UID:2271-1660415400-1660426200@historicalbeaverdamlodge.com
SUMMARY:Dinner Special
DESCRIPTION:
URL:https://historicalbeaverdamlodge.com/event/dinner-special-2022-08-13/
LOCATION:Historical Beaver Dam Lodge\, 452 Old Highway 91 North\, Beaver Dam\, AZ\, 86432\, United States
CATEGORIES:Food Special
END:VEVENT
BEGIN:VEVENT
DTSTART;TZID=America/Phoenix:20220812T180000
DTEND;TZID=America/Phoenix:20220812T210000
DTSTAMP:20260425T164604
CREATED:20220202T205505Z
LAST-MODIFIED:20220202T205505Z
UID:2270-1660327200-1660338000@historicalbeaverdamlodge.com
SUMMARY:Dinner Special
DESCRIPTION:
URL:https://historicalbeaverdamlodge.com/event/dinner-special-2022-08-12/
LOCATION:Historical Beaver Dam Lodge\, 452 Old Highway 91 North\, Beaver Dam\, AZ\, 86432\, United States
CATEGORIES:Food Special
END:VEVENT
BEGIN:VEVENT
DTSTART;TZID=America/Phoenix:20220809T183000
DTEND;TZID=America/Phoenix:20220809T213000
DTSTAMP:20260425T164604
CREATED:20220202T205505Z
LAST-MODIFIED:20220202T205505Z
UID:2358-1660069800-1660080600@historicalbeaverdamlodge.com
SUMMARY:Dinner Special
DESCRIPTION:
URL:https://historicalbeaverdamlodge.com/event/dinner-special-2022-08-09/
LOCATION:Historical Beaver Dam Lodge\, 452 Old Highway 91 North\, Beaver Dam\, AZ\, 86432\, United States
CATEGORIES:Food Special
END:VEVENT
BEGIN:VEVENT
DTSTART;TZID=America/Phoenix:20220806T183000
DTEND;TZID=America/Phoenix:20220806T213000
DTSTAMP:20260425T164604
CREATED:20220202T205505Z
LAST-MODIFIED:20220202T205505Z
UID:2268-1659810600-1659821400@historicalbeaverdamlodge.com
SUMMARY:Dinner Special
DESCRIPTION:
URL:https://historicalbeaverdamlodge.com/event/dinner-special-2022-08-06/
LOCATION:Historical Beaver Dam Lodge\, 452 Old Highway 91 North\, Beaver Dam\, AZ\, 86432\, United States
CATEGORIES:Food Special
END:VEVENT
BEGIN:VEVENT
DTSTART;TZID=America/Phoenix:20220805T180000
DTEND;TZID=America/Phoenix:20220805T210000
DTSTAMP:20260425T164604
CREATED:20220202T205505Z
LAST-MODIFIED:20220202T205505Z
UID:2267-1659722400-1659733200@historicalbeaverdamlodge.com
SUMMARY:Dinner Special
DESCRIPTION:
URL:https://historicalbeaverdamlodge.com/event/dinner-special-2022-08-05/
LOCATION:Historical Beaver Dam Lodge\, 452 Old Highway 91 North\, Beaver Dam\, AZ\, 86432\, United States
CATEGORIES:Food Special
END:VEVENT
BEGIN:VEVENT
DTSTART;TZID=America/Phoenix:20220802T183000
DTEND;TZID=America/Phoenix:20220802T213000
DTSTAMP:20260425T164604
CREATED:20220202T205505Z
LAST-MODIFIED:20220202T205505Z
UID:2357-1659465000-1659475800@historicalbeaverdamlodge.com
SUMMARY:Dinner Special
DESCRIPTION:
URL:https://historicalbeaverdamlodge.com/event/dinner-special-2022-08-02/
LOCATION:Historical Beaver Dam Lodge\, 452 Old Highway 91 North\, Beaver Dam\, AZ\, 86432\, United States
CATEGORIES:Food Special
END:VEVENT
BEGIN:VEVENT
DTSTART;TZID=America/Phoenix:20220730T183000
DTEND;TZID=America/Phoenix:20220730T213000
DTSTAMP:20260425T164604
CREATED:20220202T205505Z
LAST-MODIFIED:20220202T205505Z
UID:2265-1659205800-1659216600@historicalbeaverdamlodge.com
SUMMARY:Dinner Special
DESCRIPTION:
URL:https://historicalbeaverdamlodge.com/event/dinner-special-2022-07-30/
LOCATION:Historical Beaver Dam Lodge\, 452 Old Highway 91 North\, Beaver Dam\, AZ\, 86432\, United States
CATEGORIES:Food Special
END:VEVENT
BEGIN:VEVENT
DTSTART;TZID=America/Phoenix:20220729T180000
DTEND;TZID=America/Phoenix:20220729T210000
DTSTAMP:20260425T164604
CREATED:20220202T205505Z
LAST-MODIFIED:20220202T205505Z
UID:2264-1659117600-1659128400@historicalbeaverdamlodge.com
SUMMARY:Dinner Special
DESCRIPTION:
URL:https://historicalbeaverdamlodge.com/event/dinner-special-2022-07-29/
LOCATION:Historical Beaver Dam Lodge\, 452 Old Highway 91 North\, Beaver Dam\, AZ\, 86432\, United States
CATEGORIES:Food Special
END:VEVENT
BEGIN:VEVENT
DTSTART;TZID=America/Phoenix:20220726T183000
DTEND;TZID=America/Phoenix:20220726T213000
DTSTAMP:20260425T164604
CREATED:20220202T205505Z
LAST-MODIFIED:20220202T205505Z
UID:2356-1658860200-1658871000@historicalbeaverdamlodge.com
SUMMARY:Dinner Special
DESCRIPTION:
URL:https://historicalbeaverdamlodge.com/event/dinner-special-2022-07-26/
LOCATION:Historical Beaver Dam Lodge\, 452 Old Highway 91 North\, Beaver Dam\, AZ\, 86432\, United States
CATEGORIES:Food Special
END:VEVENT
BEGIN:VEVENT
DTSTART;TZID=America/Phoenix:20220723T183000
DTEND;TZID=America/Phoenix:20220723T213000
DTSTAMP:20260425T164604
CREATED:20220202T205505Z
LAST-MODIFIED:20220202T205505Z
UID:2262-1658601000-1658611800@historicalbeaverdamlodge.com
SUMMARY:Dinner Special
DESCRIPTION:
URL:https://historicalbeaverdamlodge.com/event/dinner-special-2022-07-23/
LOCATION:Historical Beaver Dam Lodge\, 452 Old Highway 91 North\, Beaver Dam\, AZ\, 86432\, United States
CATEGORIES:Food Special
END:VEVENT
BEGIN:VEVENT
DTSTART;TZID=America/Phoenix:20220722T180000
DTEND;TZID=America/Phoenix:20220722T210000
DTSTAMP:20260425T164604
CREATED:20220202T205505Z
LAST-MODIFIED:20220202T205505Z
UID:2261-1658512800-1658523600@historicalbeaverdamlodge.com
SUMMARY:Dinner Special
DESCRIPTION:
URL:https://historicalbeaverdamlodge.com/event/dinner-special-2022-07-22/
LOCATION:Historical Beaver Dam Lodge\, 452 Old Highway 91 North\, Beaver Dam\, AZ\, 86432\, United States
CATEGORIES:Food Special
END:VEVENT
BEGIN:VEVENT
DTSTART;TZID=America/Phoenix:20220719T183000
DTEND;TZID=America/Phoenix:20220719T213000
DTSTAMP:20260425T164605
CREATED:20220202T205505Z
LAST-MODIFIED:20220202T205505Z
UID:2355-1658255400-1658266200@historicalbeaverdamlodge.com
SUMMARY:Dinner Special
DESCRIPTION:
URL:https://historicalbeaverdamlodge.com/event/dinner-special-2022-07-19/
LOCATION:Historical Beaver Dam Lodge\, 452 Old Highway 91 North\, Beaver Dam\, AZ\, 86432\, United States
CATEGORIES:Food Special
END:VEVENT
BEGIN:VEVENT
DTSTART;TZID=America/Phoenix:20220716T183000
DTEND;TZID=America/Phoenix:20220716T213000
DTSTAMP:20260425T164605
CREATED:20220202T205505Z
LAST-MODIFIED:20220202T205505Z
UID:2259-1657996200-1658007000@historicalbeaverdamlodge.com
SUMMARY:Dinner Special
DESCRIPTION:
URL:https://historicalbeaverdamlodge.com/event/dinner-special-2022-07-16/
LOCATION:Historical Beaver Dam Lodge\, 452 Old Highway 91 North\, Beaver Dam\, AZ\, 86432\, United States
CATEGORIES:Food Special
END:VEVENT
BEGIN:VEVENT
DTSTART;TZID=America/Phoenix:20220715T180000
DTEND;TZID=America/Phoenix:20220715T210000
DTSTAMP:20260425T164605
CREATED:20220202T205505Z
LAST-MODIFIED:20220202T205505Z
UID:2258-1657908000-1657918800@historicalbeaverdamlodge.com
SUMMARY:Dinner Special
DESCRIPTION:
URL:https://historicalbeaverdamlodge.com/event/dinner-special-2022-07-15/
LOCATION:Historical Beaver Dam Lodge\, 452 Old Highway 91 North\, Beaver Dam\, AZ\, 86432\, United States
CATEGORIES:Food Special
END:VEVENT
BEGIN:VEVENT
DTSTART;TZID=America/Phoenix:20220712T183000
DTEND;TZID=America/Phoenix:20220712T213000
DTSTAMP:20260425T164605
CREATED:20220202T205505Z
LAST-MODIFIED:20220202T205505Z
UID:2354-1657650600-1657661400@historicalbeaverdamlodge.com
SUMMARY:Dinner Special
DESCRIPTION:
URL:https://historicalbeaverdamlodge.com/event/dinner-special-2022-07-12/
LOCATION:Historical Beaver Dam Lodge\, 452 Old Highway 91 North\, Beaver Dam\, AZ\, 86432\, United States
CATEGORIES:Food Special
END:VEVENT
BEGIN:VEVENT
DTSTART;TZID=America/Phoenix:20220709T183000
DTEND;TZID=America/Phoenix:20220709T213000
DTSTAMP:20260425T164605
CREATED:20220202T205505Z
LAST-MODIFIED:20220202T205505Z
UID:2256-1657391400-1657402200@historicalbeaverdamlodge.com
SUMMARY:Dinner Special
DESCRIPTION:
URL:https://historicalbeaverdamlodge.com/event/dinner-special-2022-07-09/
LOCATION:Historical Beaver Dam Lodge\, 452 Old Highway 91 North\, Beaver Dam\, AZ\, 86432\, United States
CATEGORIES:Food Special
END:VEVENT
BEGIN:VEVENT
DTSTART;TZID=America/Phoenix:20220708T180000
DTEND;TZID=America/Phoenix:20220708T210000
DTSTAMP:20260425T164605
CREATED:20220202T205505Z
LAST-MODIFIED:20220202T205505Z
UID:2255-1657303200-1657314000@historicalbeaverdamlodge.com
SUMMARY:Dinner Special
DESCRIPTION:
URL:https://historicalbeaverdamlodge.com/event/dinner-special-2022-07-08/
LOCATION:Historical Beaver Dam Lodge\, 452 Old Highway 91 North\, Beaver Dam\, AZ\, 86432\, United States
CATEGORIES:Food Special
END:VEVENT
BEGIN:VEVENT
DTSTART;TZID=America/Phoenix:20220705T183000
DTEND;TZID=America/Phoenix:20220705T213000
DTSTAMP:20260425T164605
CREATED:20220202T205505Z
LAST-MODIFIED:20220202T205505Z
UID:2353-1657045800-1657056600@historicalbeaverdamlodge.com
SUMMARY:Dinner Special
DESCRIPTION:
URL:https://historicalbeaverdamlodge.com/event/dinner-special-2022-07-05/
LOCATION:Historical Beaver Dam Lodge\, 452 Old Highway 91 North\, Beaver Dam\, AZ\, 86432\, United States
CATEGORIES:Food Special
END:VEVENT
BEGIN:VEVENT
DTSTART;TZID=America/Phoenix:20220702T183000
DTEND;TZID=America/Phoenix:20220702T213000
DTSTAMP:20260425T164605
CREATED:20220202T205505Z
LAST-MODIFIED:20220202T205505Z
UID:2253-1656786600-1656797400@historicalbeaverdamlodge.com
SUMMARY:Dinner Special
DESCRIPTION:
URL:https://historicalbeaverdamlodge.com/event/dinner-special-2022-07-02/
LOCATION:Historical Beaver Dam Lodge\, 452 Old Highway 91 North\, Beaver Dam\, AZ\, 86432\, United States
CATEGORIES:Food Special
END:VEVENT
BEGIN:VEVENT
DTSTART;TZID=America/Phoenix:20220701T180000
DTEND;TZID=America/Phoenix:20220701T210000
DTSTAMP:20260425T164605
CREATED:20220202T205505Z
LAST-MODIFIED:20220202T205505Z
UID:2252-1656698400-1656709200@historicalbeaverdamlodge.com
SUMMARY:Dinner Special
DESCRIPTION:
URL:https://historicalbeaverdamlodge.com/event/dinner-special-2022-07-01/
LOCATION:Historical Beaver Dam Lodge\, 452 Old Highway 91 North\, Beaver Dam\, AZ\, 86432\, United States
CATEGORIES:Food Special
END:VEVENT
END:VCALENDAR