BEGIN:VCALENDAR
VERSION:2.0
PRODID:-//Historical Beaver Dam Lodge - ECPv6.15.20//NONSGML v1.0//EN
CALSCALE:GREGORIAN
METHOD:PUBLISH
X-WR-CALNAME:Historical Beaver Dam Lodge
X-ORIGINAL-URL:https://historicalbeaverdamlodge.com
X-WR-CALDESC:Events for Historical Beaver Dam Lodge
REFRESH-INTERVAL;VALUE=DURATION:PT1H
X-Robots-Tag:noindex
X-PUBLISHED-TTL:PT1H
BEGIN:VTIMEZONE
TZID:America/Phoenix
BEGIN:STANDARD
TZOFFSETFROM:-0700
TZOFFSETTO:-0700
TZNAME:MST
DTSTART:20200101T000000
END:STANDARD
END:VTIMEZONE
BEGIN:VEVENT
DTSTART;TZID=America/Phoenix:20221214T120000
DTEND;TZID=America/Phoenix:20221214T150000
DTSTAMP:20260422T140446
CREATED:20221130T204248Z
LAST-MODIFIED:20221130T204248Z
UID:2578-1671019200-1671030000@historicalbeaverdamlodge.com
SUMMARY:Golf Christmas Tournament
DESCRIPTION:Come enjoy a round of golf & lunch and help support the Beaver Dam Food Bank.
URL:https://historicalbeaverdamlodge.com/event/golf-christmas-tournament/
LOCATION:Historical Beaver Dam Lodge\, 452 Old Highway 91 North\, Beaver Dam\, AZ\, 86432\, United States
CATEGORIES:Fundraiser,Golf Tournament
ATTACH;FMTTYPE=application/pdf:https://historicalbeaverdamlodge.com/wp-content/uploads/2022/11/TOURNAMENT-.pdf
END:VEVENT
BEGIN:VEVENT
DTSTART;TZID=America/Phoenix:20211219T120000
DTEND;TZID=America/Phoenix:20211219T180000
DTSTAMP:20260422T140446
CREATED:20211130T043001Z
LAST-MODIFIED:20211130T043533Z
UID:1800-1639915200-1639936800@historicalbeaverdamlodge.com
SUMMARY:GOLF TOURNAMENT TO HELP RAISE FUNDS FOR THE LOCAL BEAVER DAM FOOD BANK
DESCRIPTION:
URL:https://historicalbeaverdamlodge.com/event/golf-tournament-to-help-raise-funds-for-the-local-beaver-dam-food-bank/
LOCATION:Historical Beaver Dam Lodge\, 452 Old Highway 91 North\, Beaver Dam\, AZ\, 86432\, United States
CATEGORIES:Fundraiser,Golf Tournament
END:VEVENT
BEGIN:VEVENT
DTSTART;TZID=America/Phoenix:20211122T090000
DTEND;TZID=America/Phoenix:20211122T180000
DTSTAMP:20260422T140446
CREATED:20211112T205423Z
LAST-MODIFIED:20211130T043645Z
UID:1750-1637571600-1637604000@historicalbeaverdamlodge.com
SUMMARY:Golf Tournament
DESCRIPTION:Come out at support the Beaver Dam Food Bank!
URL:https://historicalbeaverdamlodge.com/event/golf-tournament/
LOCATION:Historical Beaver Dam Lodge\, 452 Old Highway 91 North\, Beaver Dam\, AZ\, 86432\, United States
CATEGORIES:Fundraiser,Golf Tournament
END:VEVENT
END:VCALENDAR