BEGIN:VCALENDAR
VERSION:2.0
PRODID:-//Historical Beaver Dam Lodge - ECPv6.15.20//NONSGML v1.0//EN
CALSCALE:GREGORIAN
METHOD:PUBLISH
X-ORIGINAL-URL:https://historicalbeaverdamlodge.com
X-WR-CALDESC:Events for Historical Beaver Dam Lodge
REFRESH-INTERVAL;VALUE=DURATION:PT1H
X-Robots-Tag:noindex
X-PUBLISHED-TTL:PT1H
BEGIN:VTIMEZONE
TZID:America/Phoenix
BEGIN:STANDARD
TZOFFSETFROM:-0700
TZOFFSETTO:-0700
TZNAME:MST
DTSTART:20210101T000000
END:STANDARD
END:VTIMEZONE
BEGIN:VEVENT
DTSTART;TZID=America/Phoenix:20221203T190000
DTEND;TZID=America/Phoenix:20221203T220000
DTSTAMP:20260425T080552
CREATED:20220202T201847Z
LAST-MODIFIED:20220202T205128Z
UID:1963-1670094000-1670104800@historicalbeaverdamlodge.com
SUMMARY:Music and Dancing with Uncle Bob
DESCRIPTION:
URL:https://historicalbeaverdamlodge.com/event/music-and-dancing-with-uncle-bob-11-2022-12-03/
LOCATION:Historical Beaver Dam Lodge\, 452 Old Highway 91 North\, Beaver Dam\, AZ\, 86432\, United States
CATEGORIES:Dancing,Music
ATTACH;FMTTYPE=image/jpeg:https://historicalbeaverdamlodge.com/wp-content/uploads/2022/01/272327084_1188068338420634_6770852490903980925_n.jpg
END:VEVENT
BEGIN:VEVENT
DTSTART;TZID=America/Phoenix:20221126T190000
DTEND;TZID=America/Phoenix:20221126T220000
DTSTAMP:20260425T080552
CREATED:20220202T201847Z
LAST-MODIFIED:20220202T201847Z
UID:1962-1669489200-1669500000@historicalbeaverdamlodge.com
SUMMARY:Music and Dancing with Uncle Bob
DESCRIPTION:
URL:https://historicalbeaverdamlodge.com/event/music-and-dancing-with-uncle-bob-11-2022-11-26/
LOCATION:Historical Beaver Dam Lodge\, 452 Old Highway 91 North\, Beaver Dam\, AZ\, 86432\, United States
CATEGORIES:Dancing,Music
ATTACH;FMTTYPE=image/jpeg:https://historicalbeaverdamlodge.com/wp-content/uploads/2022/01/272327084_1188068338420634_6770852490903980925_n.jpg
END:VEVENT
BEGIN:VEVENT
DTSTART;TZID=America/Phoenix:20221119T190000
DTEND;TZID=America/Phoenix:20221119T220000
DTSTAMP:20260425T080552
CREATED:20220202T201847Z
LAST-MODIFIED:20220202T201847Z
UID:1961-1668884400-1668895200@historicalbeaverdamlodge.com
SUMMARY:Music and Dancing with Uncle Bob
DESCRIPTION:
URL:https://historicalbeaverdamlodge.com/event/music-and-dancing-with-uncle-bob-11-2022-11-19/
LOCATION:Historical Beaver Dam Lodge\, 452 Old Highway 91 North\, Beaver Dam\, AZ\, 86432\, United States
CATEGORIES:Dancing,Music
ATTACH;FMTTYPE=image/jpeg:https://historicalbeaverdamlodge.com/wp-content/uploads/2022/01/272327084_1188068338420634_6770852490903980925_n.jpg
END:VEVENT
BEGIN:VEVENT
DTSTART;TZID=America/Phoenix:20221112T190000
DTEND;TZID=America/Phoenix:20221112T220000
DTSTAMP:20260425T080552
CREATED:20220202T201847Z
LAST-MODIFIED:20220202T201847Z
UID:1960-1668279600-1668290400@historicalbeaverdamlodge.com
SUMMARY:Music and Dancing with Uncle Bob
DESCRIPTION:
URL:https://historicalbeaverdamlodge.com/event/music-and-dancing-with-uncle-bob-11-2022-11-12/
LOCATION:Historical Beaver Dam Lodge\, 452 Old Highway 91 North\, Beaver Dam\, AZ\, 86432\, United States
CATEGORIES:Dancing,Music
ATTACH;FMTTYPE=image/jpeg:https://historicalbeaverdamlodge.com/wp-content/uploads/2022/01/272327084_1188068338420634_6770852490903980925_n.jpg
END:VEVENT
BEGIN:VEVENT
DTSTART;TZID=America/Phoenix:20221105T180000
DTEND;TZID=America/Phoenix:20221105T210000
DTSTAMP:20260425T080552
CREATED:20220202T201847Z
LAST-MODIFIED:20220202T201847Z
UID:1959-1667671200-1667682000@historicalbeaverdamlodge.com
SUMMARY:Music and Dancing with Uncle Bob
DESCRIPTION:
URL:https://historicalbeaverdamlodge.com/event/music-and-dancing-with-uncle-bob-11-2022-11-05/
LOCATION:Historical Beaver Dam Lodge\, 452 Old Highway 91 North\, Beaver Dam\, AZ\, 86432\, United States
CATEGORIES:Dancing,Music
ATTACH;FMTTYPE=image/jpeg:https://historicalbeaverdamlodge.com/wp-content/uploads/2022/01/272327084_1188068338420634_6770852490903980925_n.jpg
END:VEVENT
BEGIN:VEVENT
DTSTART;TZID=America/Phoenix:20221029T180000
DTEND;TZID=America/Phoenix:20221029T210000
DTSTAMP:20260425T080552
CREATED:20220202T201847Z
LAST-MODIFIED:20220202T201847Z
UID:1958-1667066400-1667077200@historicalbeaverdamlodge.com
SUMMARY:Music and Dancing with Uncle Bob
DESCRIPTION:
URL:https://historicalbeaverdamlodge.com/event/music-and-dancing-with-uncle-bob-11-2022-10-29/
LOCATION:Historical Beaver Dam Lodge\, 452 Old Highway 91 North\, Beaver Dam\, AZ\, 86432\, United States
CATEGORIES:Dancing,Music
ATTACH;FMTTYPE=image/jpeg:https://historicalbeaverdamlodge.com/wp-content/uploads/2022/01/272327084_1188068338420634_6770852490903980925_n.jpg
END:VEVENT
BEGIN:VEVENT
DTSTART;TZID=America/Phoenix:20221022T180000
DTEND;TZID=America/Phoenix:20221022T210000
DTSTAMP:20260425T080552
CREATED:20220202T201847Z
LAST-MODIFIED:20220202T201847Z
UID:1957-1666461600-1666472400@historicalbeaverdamlodge.com
SUMMARY:Music and Dancing with Uncle Bob
DESCRIPTION:
URL:https://historicalbeaverdamlodge.com/event/music-and-dancing-with-uncle-bob-11-2022-10-22/
LOCATION:Historical Beaver Dam Lodge\, 452 Old Highway 91 North\, Beaver Dam\, AZ\, 86432\, United States
CATEGORIES:Dancing,Music
ATTACH;FMTTYPE=image/jpeg:https://historicalbeaverdamlodge.com/wp-content/uploads/2022/01/272327084_1188068338420634_6770852490903980925_n.jpg
END:VEVENT
BEGIN:VEVENT
DTSTART;TZID=America/Phoenix:20221015T180000
DTEND;TZID=America/Phoenix:20221015T210000
DTSTAMP:20260425T080552
CREATED:20220202T201847Z
LAST-MODIFIED:20220202T201847Z
UID:1956-1665856800-1665867600@historicalbeaverdamlodge.com
SUMMARY:Music and Dancing with Uncle Bob
DESCRIPTION:
URL:https://historicalbeaverdamlodge.com/event/music-and-dancing-with-uncle-bob-11-2022-10-15/
LOCATION:Historical Beaver Dam Lodge\, 452 Old Highway 91 North\, Beaver Dam\, AZ\, 86432\, United States
CATEGORIES:Dancing,Music
ATTACH;FMTTYPE=image/jpeg:https://historicalbeaverdamlodge.com/wp-content/uploads/2022/01/272327084_1188068338420634_6770852490903980925_n.jpg
END:VEVENT
BEGIN:VEVENT
DTSTART;TZID=America/Phoenix:20221008T180000
DTEND;TZID=America/Phoenix:20221008T210000
DTSTAMP:20260425T080552
CREATED:20220202T201847Z
LAST-MODIFIED:20220202T201847Z
UID:1955-1665252000-1665262800@historicalbeaverdamlodge.com
SUMMARY:Music and Dancing with Uncle Bob
DESCRIPTION:
URL:https://historicalbeaverdamlodge.com/event/music-and-dancing-with-uncle-bob-11-2022-10-08/
LOCATION:Historical Beaver Dam Lodge\, 452 Old Highway 91 North\, Beaver Dam\, AZ\, 86432\, United States
CATEGORIES:Dancing,Music
ATTACH;FMTTYPE=image/jpeg:https://historicalbeaverdamlodge.com/wp-content/uploads/2022/01/272327084_1188068338420634_6770852490903980925_n.jpg
END:VEVENT
BEGIN:VEVENT
DTSTART;TZID=America/Phoenix:20221001T180000
DTEND;TZID=America/Phoenix:20221001T210000
DTSTAMP:20260425T080552
CREATED:20220202T201847Z
LAST-MODIFIED:20220202T201847Z
UID:1954-1664647200-1664658000@historicalbeaverdamlodge.com
SUMMARY:Music and Dancing with Uncle Bob
DESCRIPTION:
URL:https://historicalbeaverdamlodge.com/event/music-and-dancing-with-uncle-bob-11-2022-10-01/
LOCATION:Historical Beaver Dam Lodge\, 452 Old Highway 91 North\, Beaver Dam\, AZ\, 86432\, United States
CATEGORIES:Dancing,Music
ATTACH;FMTTYPE=image/jpeg:https://historicalbeaverdamlodge.com/wp-content/uploads/2022/01/272327084_1188068338420634_6770852490903980925_n.jpg
END:VEVENT
BEGIN:VEVENT
DTSTART;TZID=America/Phoenix:20220924T180000
DTEND;TZID=America/Phoenix:20220924T210000
DTSTAMP:20260425T080552
CREATED:20220202T201847Z
LAST-MODIFIED:20220202T201847Z
UID:1953-1664042400-1664053200@historicalbeaverdamlodge.com
SUMMARY:Music and Dancing with Uncle Bob
DESCRIPTION:
URL:https://historicalbeaverdamlodge.com/event/music-and-dancing-with-uncle-bob-11-2022-09-24/
LOCATION:Historical Beaver Dam Lodge\, 452 Old Highway 91 North\, Beaver Dam\, AZ\, 86432\, United States
CATEGORIES:Dancing,Music
ATTACH;FMTTYPE=image/jpeg:https://historicalbeaverdamlodge.com/wp-content/uploads/2022/01/272327084_1188068338420634_6770852490903980925_n.jpg
END:VEVENT
BEGIN:VEVENT
DTSTART;TZID=America/Phoenix:20220917T180000
DTEND;TZID=America/Phoenix:20220917T210000
DTSTAMP:20260425T080552
CREATED:20220202T201847Z
LAST-MODIFIED:20220202T201847Z
UID:1952-1663437600-1663448400@historicalbeaverdamlodge.com
SUMMARY:Music and Dancing with Uncle Bob
DESCRIPTION:
URL:https://historicalbeaverdamlodge.com/event/music-and-dancing-with-uncle-bob-11-2022-09-17/
LOCATION:Historical Beaver Dam Lodge\, 452 Old Highway 91 North\, Beaver Dam\, AZ\, 86432\, United States
CATEGORIES:Dancing,Music
ATTACH;FMTTYPE=image/jpeg:https://historicalbeaverdamlodge.com/wp-content/uploads/2022/01/272327084_1188068338420634_6770852490903980925_n.jpg
END:VEVENT
BEGIN:VEVENT
DTSTART;TZID=America/Phoenix:20220910T180000
DTEND;TZID=America/Phoenix:20220910T210000
DTSTAMP:20260425T080552
CREATED:20220202T201847Z
LAST-MODIFIED:20220202T201847Z
UID:1951-1662832800-1662843600@historicalbeaverdamlodge.com
SUMMARY:Music and Dancing with Uncle Bob
DESCRIPTION:
URL:https://historicalbeaverdamlodge.com/event/music-and-dancing-with-uncle-bob-11-2022-09-10/
LOCATION:Historical Beaver Dam Lodge\, 452 Old Highway 91 North\, Beaver Dam\, AZ\, 86432\, United States
CATEGORIES:Dancing,Music
ATTACH;FMTTYPE=image/jpeg:https://historicalbeaverdamlodge.com/wp-content/uploads/2022/01/272327084_1188068338420634_6770852490903980925_n.jpg
END:VEVENT
BEGIN:VEVENT
DTSTART;TZID=America/Phoenix:20220903T180000
DTEND;TZID=America/Phoenix:20220903T210000
DTSTAMP:20260425T080552
CREATED:20220202T201847Z
LAST-MODIFIED:20220202T201847Z
UID:1950-1662228000-1662238800@historicalbeaverdamlodge.com
SUMMARY:Music and Dancing with Uncle Bob
DESCRIPTION:
URL:https://historicalbeaverdamlodge.com/event/music-and-dancing-with-uncle-bob-11-2022-09-03/
LOCATION:Historical Beaver Dam Lodge\, 452 Old Highway 91 North\, Beaver Dam\, AZ\, 86432\, United States
CATEGORIES:Dancing,Music
ATTACH;FMTTYPE=image/jpeg:https://historicalbeaverdamlodge.com/wp-content/uploads/2022/01/272327084_1188068338420634_6770852490903980925_n.jpg
END:VEVENT
BEGIN:VEVENT
DTSTART;TZID=America/Phoenix:20220827T180000
DTEND;TZID=America/Phoenix:20220827T210000
DTSTAMP:20260425T080552
CREATED:20220202T201847Z
LAST-MODIFIED:20220202T201847Z
UID:1949-1661623200-1661634000@historicalbeaverdamlodge.com
SUMMARY:Music and Dancing with Uncle Bob
DESCRIPTION:
URL:https://historicalbeaverdamlodge.com/event/music-and-dancing-with-uncle-bob-11-2022-08-27/
LOCATION:Historical Beaver Dam Lodge\, 452 Old Highway 91 North\, Beaver Dam\, AZ\, 86432\, United States
CATEGORIES:Dancing,Music
ATTACH;FMTTYPE=image/jpeg:https://historicalbeaverdamlodge.com/wp-content/uploads/2022/01/272327084_1188068338420634_6770852490903980925_n.jpg
END:VEVENT
BEGIN:VEVENT
DTSTART;TZID=America/Phoenix:20220820T180000
DTEND;TZID=America/Phoenix:20220820T210000
DTSTAMP:20260425T080552
CREATED:20220202T201847Z
LAST-MODIFIED:20220202T201847Z
UID:1948-1661018400-1661029200@historicalbeaverdamlodge.com
SUMMARY:Music and Dancing with Uncle Bob
DESCRIPTION:
URL:https://historicalbeaverdamlodge.com/event/music-and-dancing-with-uncle-bob-11-2022-08-20/
LOCATION:Historical Beaver Dam Lodge\, 452 Old Highway 91 North\, Beaver Dam\, AZ\, 86432\, United States
CATEGORIES:Dancing,Music
ATTACH;FMTTYPE=image/jpeg:https://historicalbeaverdamlodge.com/wp-content/uploads/2022/01/272327084_1188068338420634_6770852490903980925_n.jpg
END:VEVENT
BEGIN:VEVENT
DTSTART;TZID=America/Phoenix:20220813T180000
DTEND;TZID=America/Phoenix:20220813T210000
DTSTAMP:20260425T080552
CREATED:20220202T201847Z
LAST-MODIFIED:20220202T201847Z
UID:1947-1660413600-1660424400@historicalbeaverdamlodge.com
SUMMARY:Music and Dancing with Uncle Bob
DESCRIPTION:
URL:https://historicalbeaverdamlodge.com/event/music-and-dancing-with-uncle-bob-11-2022-08-13/
LOCATION:Historical Beaver Dam Lodge\, 452 Old Highway 91 North\, Beaver Dam\, AZ\, 86432\, United States
CATEGORIES:Dancing,Music
ATTACH;FMTTYPE=image/jpeg:https://historicalbeaverdamlodge.com/wp-content/uploads/2022/01/272327084_1188068338420634_6770852490903980925_n.jpg
END:VEVENT
BEGIN:VEVENT
DTSTART;TZID=America/Phoenix:20220806T180000
DTEND;TZID=America/Phoenix:20220806T210000
DTSTAMP:20260425T080552
CREATED:20220202T201847Z
LAST-MODIFIED:20220202T201847Z
UID:1946-1659808800-1659819600@historicalbeaverdamlodge.com
SUMMARY:Music and Dancing with Uncle Bob
DESCRIPTION:
URL:https://historicalbeaverdamlodge.com/event/music-and-dancing-with-uncle-bob-11-2022-08-06/
LOCATION:Historical Beaver Dam Lodge\, 452 Old Highway 91 North\, Beaver Dam\, AZ\, 86432\, United States
CATEGORIES:Dancing,Music
ATTACH;FMTTYPE=image/jpeg:https://historicalbeaverdamlodge.com/wp-content/uploads/2022/01/272327084_1188068338420634_6770852490903980925_n.jpg
END:VEVENT
BEGIN:VEVENT
DTSTART;TZID=America/Phoenix:20220730T180000
DTEND;TZID=America/Phoenix:20220730T210000
DTSTAMP:20260425T080552
CREATED:20220202T201847Z
LAST-MODIFIED:20220202T201847Z
UID:1945-1659204000-1659214800@historicalbeaverdamlodge.com
SUMMARY:Music and Dancing with Uncle Bob
DESCRIPTION:
URL:https://historicalbeaverdamlodge.com/event/music-and-dancing-with-uncle-bob-11-2022-07-30/
LOCATION:Historical Beaver Dam Lodge\, 452 Old Highway 91 North\, Beaver Dam\, AZ\, 86432\, United States
CATEGORIES:Dancing,Music
ATTACH;FMTTYPE=image/jpeg:https://historicalbeaverdamlodge.com/wp-content/uploads/2022/01/272327084_1188068338420634_6770852490903980925_n.jpg
END:VEVENT
BEGIN:VEVENT
DTSTART;TZID=America/Phoenix:20220723T180000
DTEND;TZID=America/Phoenix:20220723T210000
DTSTAMP:20260425T080552
CREATED:20220202T201847Z
LAST-MODIFIED:20220202T201847Z
UID:1944-1658599200-1658610000@historicalbeaverdamlodge.com
SUMMARY:Music and Dancing with Uncle Bob
DESCRIPTION:
URL:https://historicalbeaverdamlodge.com/event/music-and-dancing-with-uncle-bob-11-2022-07-23/
LOCATION:Historical Beaver Dam Lodge\, 452 Old Highway 91 North\, Beaver Dam\, AZ\, 86432\, United States
CATEGORIES:Dancing,Music
ATTACH;FMTTYPE=image/jpeg:https://historicalbeaverdamlodge.com/wp-content/uploads/2022/01/272327084_1188068338420634_6770852490903980925_n.jpg
END:VEVENT
BEGIN:VEVENT
DTSTART;TZID=America/Phoenix:20220716T180000
DTEND;TZID=America/Phoenix:20220716T210000
DTSTAMP:20260425T080552
CREATED:20220202T201847Z
LAST-MODIFIED:20220202T201847Z
UID:1943-1657994400-1658005200@historicalbeaverdamlodge.com
SUMMARY:Music and Dancing with Uncle Bob
DESCRIPTION:
URL:https://historicalbeaverdamlodge.com/event/music-and-dancing-with-uncle-bob-11-2022-07-16/
LOCATION:Historical Beaver Dam Lodge\, 452 Old Highway 91 North\, Beaver Dam\, AZ\, 86432\, United States
CATEGORIES:Dancing,Music
ATTACH;FMTTYPE=image/jpeg:https://historicalbeaverdamlodge.com/wp-content/uploads/2022/01/272327084_1188068338420634_6770852490903980925_n.jpg
END:VEVENT
BEGIN:VEVENT
DTSTART;TZID=America/Phoenix:20220709T180000
DTEND;TZID=America/Phoenix:20220709T210000
DTSTAMP:20260425T080552
CREATED:20220202T201847Z
LAST-MODIFIED:20220202T201847Z
UID:1942-1657389600-1657400400@historicalbeaverdamlodge.com
SUMMARY:Music and Dancing with Uncle Bob
DESCRIPTION:
URL:https://historicalbeaverdamlodge.com/event/music-and-dancing-with-uncle-bob-11-2022-07-09/
LOCATION:Historical Beaver Dam Lodge\, 452 Old Highway 91 North\, Beaver Dam\, AZ\, 86432\, United States
CATEGORIES:Dancing,Music
ATTACH;FMTTYPE=image/jpeg:https://historicalbeaverdamlodge.com/wp-content/uploads/2022/01/272327084_1188068338420634_6770852490903980925_n.jpg
END:VEVENT
BEGIN:VEVENT
DTSTART;TZID=America/Phoenix:20220702T180000
DTEND;TZID=America/Phoenix:20220702T210000
DTSTAMP:20260425T080552
CREATED:20220202T201847Z
LAST-MODIFIED:20220202T201847Z
UID:1941-1656784800-1656795600@historicalbeaverdamlodge.com
SUMMARY:Music and Dancing with Uncle Bob
DESCRIPTION:
URL:https://historicalbeaverdamlodge.com/event/music-and-dancing-with-uncle-bob-11-2022-07-02/
LOCATION:Historical Beaver Dam Lodge\, 452 Old Highway 91 North\, Beaver Dam\, AZ\, 86432\, United States
CATEGORIES:Dancing,Music
ATTACH;FMTTYPE=image/jpeg:https://historicalbeaverdamlodge.com/wp-content/uploads/2022/01/272327084_1188068338420634_6770852490903980925_n.jpg
END:VEVENT
BEGIN:VEVENT
DTSTART;TZID=America/Phoenix:20220625T180000
DTEND;TZID=America/Phoenix:20220625T210000
DTSTAMP:20260425T080552
CREATED:20220202T201847Z
LAST-MODIFIED:20220202T201847Z
UID:1940-1656180000-1656190800@historicalbeaverdamlodge.com
SUMMARY:Music and Dancing with Uncle Bob
DESCRIPTION:
URL:https://historicalbeaverdamlodge.com/event/music-and-dancing-with-uncle-bob-11-2022-06-25/
LOCATION:Historical Beaver Dam Lodge\, 452 Old Highway 91 North\, Beaver Dam\, AZ\, 86432\, United States
CATEGORIES:Dancing,Music
ATTACH;FMTTYPE=image/jpeg:https://historicalbeaverdamlodge.com/wp-content/uploads/2022/01/272327084_1188068338420634_6770852490903980925_n.jpg
END:VEVENT
BEGIN:VEVENT
DTSTART;TZID=America/Phoenix:20220618T180000
DTEND;TZID=America/Phoenix:20220618T210000
DTSTAMP:20260425T080552
CREATED:20220202T201847Z
LAST-MODIFIED:20220202T201847Z
UID:1939-1655575200-1655586000@historicalbeaverdamlodge.com
SUMMARY:Music and Dancing with Uncle Bob
DESCRIPTION:
URL:https://historicalbeaverdamlodge.com/event/music-and-dancing-with-uncle-bob-11-2022-06-18/
LOCATION:Historical Beaver Dam Lodge\, 452 Old Highway 91 North\, Beaver Dam\, AZ\, 86432\, United States
CATEGORIES:Dancing,Music
ATTACH;FMTTYPE=image/jpeg:https://historicalbeaverdamlodge.com/wp-content/uploads/2022/01/272327084_1188068338420634_6770852490903980925_n.jpg
END:VEVENT
BEGIN:VEVENT
DTSTART;TZID=America/Phoenix:20220611T180000
DTEND;TZID=America/Phoenix:20220611T210000
DTSTAMP:20260425T080552
CREATED:20220202T201847Z
LAST-MODIFIED:20220202T201847Z
UID:1938-1654970400-1654981200@historicalbeaverdamlodge.com
SUMMARY:Music and Dancing with Uncle Bob
DESCRIPTION:
URL:https://historicalbeaverdamlodge.com/event/music-and-dancing-with-uncle-bob-11-2022-06-11/
LOCATION:Historical Beaver Dam Lodge\, 452 Old Highway 91 North\, Beaver Dam\, AZ\, 86432\, United States
CATEGORIES:Dancing,Music
ATTACH;FMTTYPE=image/jpeg:https://historicalbeaverdamlodge.com/wp-content/uploads/2022/01/272327084_1188068338420634_6770852490903980925_n.jpg
END:VEVENT
BEGIN:VEVENT
DTSTART;TZID=America/Phoenix:20220604T180000
DTEND;TZID=America/Phoenix:20220604T210000
DTSTAMP:20260425T080552
CREATED:20220202T201847Z
LAST-MODIFIED:20220202T201847Z
UID:1937-1654365600-1654376400@historicalbeaverdamlodge.com
SUMMARY:Music and Dancing with Uncle Bob
DESCRIPTION:
URL:https://historicalbeaverdamlodge.com/event/music-and-dancing-with-uncle-bob-11-2022-06-04/
LOCATION:Historical Beaver Dam Lodge\, 452 Old Highway 91 North\, Beaver Dam\, AZ\, 86432\, United States
CATEGORIES:Dancing,Music
ATTACH;FMTTYPE=image/jpeg:https://historicalbeaverdamlodge.com/wp-content/uploads/2022/01/272327084_1188068338420634_6770852490903980925_n.jpg
END:VEVENT
BEGIN:VEVENT
DTSTART;TZID=America/Phoenix:20220528T180000
DTEND;TZID=America/Phoenix:20220528T210000
DTSTAMP:20260425T080552
CREATED:20220202T201847Z
LAST-MODIFIED:20220202T201847Z
UID:1936-1653760800-1653771600@historicalbeaverdamlodge.com
SUMMARY:Music and Dancing with Uncle Bob
DESCRIPTION:
URL:https://historicalbeaverdamlodge.com/event/music-and-dancing-with-uncle-bob-11-2022-05-28/
LOCATION:Historical Beaver Dam Lodge\, 452 Old Highway 91 North\, Beaver Dam\, AZ\, 86432\, United States
CATEGORIES:Dancing,Music
ATTACH;FMTTYPE=image/jpeg:https://historicalbeaverdamlodge.com/wp-content/uploads/2022/01/272327084_1188068338420634_6770852490903980925_n.jpg
END:VEVENT
BEGIN:VEVENT
DTSTART;TZID=America/Phoenix:20220521T180000
DTEND;TZID=America/Phoenix:20220521T210000
DTSTAMP:20260425T080552
CREATED:20220202T201847Z
LAST-MODIFIED:20220202T201847Z
UID:1935-1653156000-1653166800@historicalbeaverdamlodge.com
SUMMARY:Music and Dancing with Uncle Bob
DESCRIPTION:
URL:https://historicalbeaverdamlodge.com/event/music-and-dancing-with-uncle-bob-11-2022-05-21/
LOCATION:Historical Beaver Dam Lodge\, 452 Old Highway 91 North\, Beaver Dam\, AZ\, 86432\, United States
CATEGORIES:Dancing,Music
ATTACH;FMTTYPE=image/jpeg:https://historicalbeaverdamlodge.com/wp-content/uploads/2022/01/272327084_1188068338420634_6770852490903980925_n.jpg
END:VEVENT
BEGIN:VEVENT
DTSTART;TZID=America/Phoenix:20220514T180000
DTEND;TZID=America/Phoenix:20220514T210000
DTSTAMP:20260425T080552
CREATED:20220202T201847Z
LAST-MODIFIED:20220202T201847Z
UID:1934-1652551200-1652562000@historicalbeaverdamlodge.com
SUMMARY:Music and Dancing with Uncle Bob
DESCRIPTION:
URL:https://historicalbeaverdamlodge.com/event/music-and-dancing-with-uncle-bob-11-2022-05-14/
LOCATION:Historical Beaver Dam Lodge\, 452 Old Highway 91 North\, Beaver Dam\, AZ\, 86432\, United States
CATEGORIES:Dancing,Music
ATTACH;FMTTYPE=image/jpeg:https://historicalbeaverdamlodge.com/wp-content/uploads/2022/01/272327084_1188068338420634_6770852490903980925_n.jpg
END:VEVENT
END:VCALENDAR