BEGIN:VCALENDAR
VERSION:2.0
PRODID:-//Historical Beaver Dam Lodge - ECPv6.15.20//NONSGML v1.0//EN
CALSCALE:GREGORIAN
METHOD:PUBLISH
X-ORIGINAL-URL:https://historicalbeaverdamlodge.com
X-WR-CALDESC:Events for Historical Beaver Dam Lodge
REFRESH-INTERVAL;VALUE=DURATION:PT1H
X-Robots-Tag:noindex
X-PUBLISHED-TTL:PT1H
BEGIN:VTIMEZONE
TZID:America/Phoenix
BEGIN:STANDARD
TZOFFSETFROM:-0700
TZOFFSETTO:-0700
TZNAME:MST
DTSTART:20200101T000000
END:STANDARD
END:VTIMEZONE
BEGIN:VEVENT
DTSTART;TZID=America/Phoenix:20211120T190000
DTEND;TZID=America/Phoenix:20211120T220000
DTSTAMP:20260425T180934
CREATED:20211112T205217Z
LAST-MODIFIED:20211130T043625Z
UID:1744-1637434800-1637445600@historicalbeaverdamlodge.com
SUMMARY:Music and Dancing with Uncle Bob
DESCRIPTION:
URL:https://historicalbeaverdamlodge.com/event/music-dancing-with-uncle-bob-2/
LOCATION:Historical Beaver Dam Lodge\, 452 Old Highway 91 North\, Beaver Dam\, AZ\, 86432\, United States
CATEGORIES:Dancing,Music
END:VEVENT
BEGIN:VEVENT
DTSTART;TZID=America/Phoenix:20211113T190000
DTEND;TZID=America/Phoenix:20211113T220000
DTSTAMP:20260425T180934
CREATED:20211112T204649Z
LAST-MODIFIED:20211130T043625Z
UID:1715-1636830000-1636840800@historicalbeaverdamlodge.com
SUMMARY:Music and Dancing with Uncle Bob
DESCRIPTION:
URL:https://historicalbeaverdamlodge.com/event/music-dancing-with-uncle-bob/
LOCATION:Historical Beaver Dam Lodge\, 452 Old Highway 91 North\, Beaver Dam\, AZ\, 86432\, United States
CATEGORIES:Dancing,Music
END:VEVENT
END:VCALENDAR