BEGIN:VCALENDAR
VERSION:2.0
PRODID:-//Historical Beaver Dam Lodge - ECPv6.15.20//NONSGML v1.0//EN
CALSCALE:GREGORIAN
METHOD:PUBLISH
X-WR-CALNAME:Historical Beaver Dam Lodge
X-ORIGINAL-URL:https://historicalbeaverdamlodge.com
X-WR-CALDESC:Events for Historical Beaver Dam Lodge
REFRESH-INTERVAL;VALUE=DURATION:PT1H
X-Robots-Tag:noindex
X-PUBLISHED-TTL:PT1H
BEGIN:VTIMEZONE
TZID:America/Phoenix
BEGIN:STANDARD
TZOFFSETFROM:-0700
TZOFFSETTO:-0700
TZNAME:MST
DTSTART:20220101T000000
END:STANDARD
END:VTIMEZONE
BEGIN:VEVENT
DTSTART;TZID=America/Phoenix:20230529T170000
DTEND;TZID=America/Phoenix:20230529T210000
DTSTAMP:20260421T075617
CREATED:20230224T202655Z
LAST-MODIFIED:20230224T202655Z
UID:2608-1685379600-1685394000@historicalbeaverdamlodge.com
SUMMARY:Poker Night
DESCRIPTION:Poker Night. EVERY Monday at The Lodge at 5pm AZ/4pm NV.\nLast Monday\, the winner walked away with $50 in gift cards and the pots are getting larger every week!\nCall 928-347-2222 or swing by The Lodge to sign up.
URL:https://historicalbeaverdamlodge.com/event/poker-night-13/
LOCATION:Historical Beaver Dam Lodge\, 452 Old Highway 91 North\, Beaver Dam\, AZ\, 86432\, United States
CATEGORIES:Poker Night
ATTACH;FMTTYPE=image/jpeg:https://historicalbeaverdamlodge.com/wp-content/uploads/2023/02/pokernight.jpg
END:VEVENT
BEGIN:VEVENT
DTSTART;TZID=America/Phoenix:20230522T170000
DTEND;TZID=America/Phoenix:20230522T210000
DTSTAMP:20260421T075617
CREATED:20230224T202536Z
LAST-MODIFIED:20230224T202536Z
UID:2607-1684774800-1684789200@historicalbeaverdamlodge.com
SUMMARY:Poker Night
DESCRIPTION:Poker Night. EVERY Monday at The Lodge at 5pm AZ/4pm NV.\nLast Monday\, the winner walked away with $50 in gift cards and the pots are getting larger every week!\nCall 928-347-2222 or swing by The Lodge to sign up.
URL:https://historicalbeaverdamlodge.com/event/poker-night-12/
LOCATION:Historical Beaver Dam Lodge\, 452 Old Highway 91 North\, Beaver Dam\, AZ\, 86432\, United States
CATEGORIES:Poker Night
ATTACH;FMTTYPE=image/jpeg:https://historicalbeaverdamlodge.com/wp-content/uploads/2023/02/pokernight.jpg
END:VEVENT
BEGIN:VEVENT
DTSTART;TZID=America/Phoenix:20230515T170000
DTEND;TZID=America/Phoenix:20230515T210000
DTSTAMP:20260421T075617
CREATED:20230224T202509Z
LAST-MODIFIED:20230224T202826Z
UID:2606-1684170000-1684184400@historicalbeaverdamlodge.com
SUMMARY:Poker Night
DESCRIPTION:Poker Night. EVERY Monday at The Lodge at 5pm AZ/4pm NV.\nLast Monday\, the winner walked away with $50 in gift cards and the pots are getting larger every week!\nCall 928-347-2222 or swing by The Lodge to sign up.
URL:https://historicalbeaverdamlodge.com/event/poker-night-11/
LOCATION:Historical Beaver Dam Lodge\, 452 Old Highway 91 North\, Beaver Dam\, AZ\, 86432\, United States
CATEGORIES:Poker Night
ATTACH;FMTTYPE=image/jpeg:https://historicalbeaverdamlodge.com/wp-content/uploads/2023/02/pokernight.jpg
END:VEVENT
BEGIN:VEVENT
DTSTART;TZID=America/Phoenix:20230508T170000
DTEND;TZID=America/Phoenix:20230508T210000
DTSTAMP:20260421T075617
CREATED:20230224T202444Z
LAST-MODIFIED:20230224T202800Z
UID:2605-1683565200-1683579600@historicalbeaverdamlodge.com
SUMMARY:Poker Night
DESCRIPTION:Poker Night. EVERY Monday at The Lodge at 5pm AZ/4pm NV.\nLast Monday\, the winner walked away with $50 in gift cards and the pots are getting larger every week!\nCall 928-347-2222 or swing by The Lodge to sign up.
URL:https://historicalbeaverdamlodge.com/event/poker-night-10/
LOCATION:Historical Beaver Dam Lodge\, 452 Old Highway 91 North\, Beaver Dam\, AZ\, 86432\, United States
CATEGORIES:Poker Night
ATTACH;FMTTYPE=image/jpeg:https://historicalbeaverdamlodge.com/wp-content/uploads/2023/02/pokernight.jpg
END:VEVENT
BEGIN:VEVENT
DTSTART;TZID=America/Phoenix:20230501T170000
DTEND;TZID=America/Phoenix:20230501T210000
DTSTAMP:20260421T075617
CREATED:20230224T203006Z
LAST-MODIFIED:20230224T203006Z
UID:2618-1682960400-1682974800@historicalbeaverdamlodge.com
SUMMARY:Poker Night
DESCRIPTION:Poker Night. EVERY Monday at The Lodge at 5pm AZ/4pm NV.\nLast Monday\, the winner walked away with $50 in gift cards and the pots are getting larger every week!\nCall 928-347-2222 or swing by The Lodge to sign up.
URL:https://historicalbeaverdamlodge.com/event/poker-night-14/
LOCATION:Historical Beaver Dam Lodge\, 452 Old Highway 91 North\, Beaver Dam\, AZ\, 86432\, United States
CATEGORIES:Poker Night
ATTACH;FMTTYPE=image/jpeg:https://historicalbeaverdamlodge.com/wp-content/uploads/2023/02/pokernight.jpg
END:VEVENT
BEGIN:VEVENT
DTSTART;TZID=America/Phoenix:20230424T170000
DTEND;TZID=America/Phoenix:20230424T210000
DTSTAMP:20260421T075617
CREATED:20230224T202407Z
LAST-MODIFIED:20230224T202407Z
UID:2604-1682355600-1682370000@historicalbeaverdamlodge.com
SUMMARY:Poker Night
DESCRIPTION:Poker Night. EVERY Monday at The Lodge at 5pm AZ/4pm NV.\nLast Monday\, the winner walked away with $50 in gift cards and the pots are getting larger every week!\nCall 928-347-2222 or swing by The Lodge to sign up.
URL:https://historicalbeaverdamlodge.com/event/poker-night-9/
LOCATION:Historical Beaver Dam Lodge\, 452 Old Highway 91 North\, Beaver Dam\, AZ\, 86432\, United States
CATEGORIES:Poker Night
ATTACH;FMTTYPE=image/jpeg:https://historicalbeaverdamlodge.com/wp-content/uploads/2023/02/pokernight.jpg
END:VEVENT
BEGIN:VEVENT
DTSTART;TZID=America/Phoenix:20230417T170000
DTEND;TZID=America/Phoenix:20230417T210000
DTSTAMP:20260421T075617
CREATED:20230224T202340Z
LAST-MODIFIED:20230224T202417Z
UID:2603-1681750800-1681765200@historicalbeaverdamlodge.com
SUMMARY:Poker Night
DESCRIPTION:Poker Night. EVERY Monday at The Lodge at 5pm AZ/4pm NV.\nLast Monday\, the winner walked away with $50 in gift cards and the pots are getting larger every week!\nCall 928-347-2222 or swing by The Lodge to sign up.
URL:https://historicalbeaverdamlodge.com/event/poker-night-8/
LOCATION:Historical Beaver Dam Lodge\, 452 Old Highway 91 North\, Beaver Dam\, AZ\, 86432\, United States
CATEGORIES:Poker Night
ATTACH;FMTTYPE=image/jpeg:https://historicalbeaverdamlodge.com/wp-content/uploads/2023/02/pokernight.jpg
END:VEVENT
BEGIN:VEVENT
DTSTART;TZID=America/Phoenix:20230410T170000
DTEND;TZID=America/Phoenix:20230410T210000
DTSTAMP:20260421T075617
CREATED:20230224T202249Z
LAST-MODIFIED:20230224T202249Z
UID:2602-1681146000-1681160400@historicalbeaverdamlodge.com
SUMMARY:Poker Night
DESCRIPTION:Poker Night. EVERY Monday at The Lodge at 5pm AZ/4pm NV.\nLast Monday\, the winner walked away with $50 in gift cards and the pots are getting larger every week!\nCall 928-347-2222 or swing by The Lodge to sign up.
URL:https://historicalbeaverdamlodge.com/event/poker-night-7/
LOCATION:Historical Beaver Dam Lodge\, 452 Old Highway 91 North\, Beaver Dam\, AZ\, 86432\, United States
CATEGORIES:Poker Night
ATTACH;FMTTYPE=image/jpeg:https://historicalbeaverdamlodge.com/wp-content/uploads/2023/02/pokernight.jpg
END:VEVENT
BEGIN:VEVENT
DTSTART;TZID=America/Phoenix:20230403T170000
DTEND;TZID=America/Phoenix:20230403T210000
DTSTAMP:20260421T075617
CREATED:20230224T202221Z
LAST-MODIFIED:20230224T202221Z
UID:2601-1680541200-1680555600@historicalbeaverdamlodge.com
SUMMARY:Poker Night
DESCRIPTION:Poker Night. EVERY Monday at The Lodge at 5pm AZ/4pm NV.\nLast Monday\, the winner walked away with $50 in gift cards and the pots are getting larger every week!\nCall 928-347-2222 or swing by The Lodge to sign up.
URL:https://historicalbeaverdamlodge.com/event/poker-night-6/
LOCATION:Historical Beaver Dam Lodge\, 452 Old Highway 91 North\, Beaver Dam\, AZ\, 86432\, United States
CATEGORIES:Poker Night
ATTACH;FMTTYPE=image/jpeg:https://historicalbeaverdamlodge.com/wp-content/uploads/2023/02/pokernight.jpg
END:VEVENT
BEGIN:VEVENT
DTSTART;TZID=America/Phoenix:20230327T170000
DTEND;TZID=America/Phoenix:20230327T210000
DTSTAMP:20260421T075617
CREATED:20230224T195018Z
LAST-MODIFIED:20230224T195605Z
UID:2596-1679936400-1679950800@historicalbeaverdamlodge.com
SUMMARY:Poker Night
DESCRIPTION:Poker Night. EVERY Monday at The Lodge at 5pm AZ/4pm NV.\nLast Monday\, the winner walked away with $50 in gift cards and the pots are getting larger every week!\nCall 928-347-2222 or swing by The Lodge to sign up.
URL:https://historicalbeaverdamlodge.com/event/poker-night-5/
LOCATION:Historical Beaver Dam Lodge\, 452 Old Highway 91 North\, Beaver Dam\, AZ\, 86432\, United States
CATEGORIES:Poker Night
ATTACH;FMTTYPE=image/jpeg:https://historicalbeaverdamlodge.com/wp-content/uploads/2023/02/pokernight.jpg
END:VEVENT
BEGIN:VEVENT
DTSTART;TZID=America/Phoenix:20230320T170000
DTEND;TZID=America/Phoenix:20230320T210000
DTSTAMP:20260421T075617
CREATED:20230224T195016Z
LAST-MODIFIED:20230224T195540Z
UID:2593-1679331600-1679346000@historicalbeaverdamlodge.com
SUMMARY:Poker Night
DESCRIPTION:Poker Night. EVERY Monday at The Lodge at 5pm AZ/4pm NV.\nLast Monday\, the winner walked away with $50 in gift cards and the pots are getting larger every week!\nCall 928-347-2222 or swing by The Lodge to sign up.
URL:https://historicalbeaverdamlodge.com/event/poker-night-4/
LOCATION:Historical Beaver Dam Lodge\, 452 Old Highway 91 North\, Beaver Dam\, AZ\, 86432\, United States
CATEGORIES:Poker Night
ATTACH;FMTTYPE=image/jpeg:https://historicalbeaverdamlodge.com/wp-content/uploads/2023/02/pokernight.jpg
END:VEVENT
BEGIN:VEVENT
DTSTART;TZID=America/Phoenix:20230313T170000
DTEND;TZID=America/Phoenix:20230313T210000
DTSTAMP:20260421T075617
CREATED:20230224T195014Z
LAST-MODIFIED:20230224T195458Z
UID:2592-1678726800-1678741200@historicalbeaverdamlodge.com
SUMMARY:Poker Night
DESCRIPTION:Poker Night. EVERY Monday at The Lodge at 5pm AZ/4pm NV.\nLast Monday\, the winner walked away with $50 in gift cards and the pots are getting larger every week!\nCall 928-347-2222 or swing by The Lodge to sign up.
URL:https://historicalbeaverdamlodge.com/event/poker-night-3/
LOCATION:Historical Beaver Dam Lodge\, 452 Old Highway 91 North\, Beaver Dam\, AZ\, 86432\, United States
CATEGORIES:Poker Night
ATTACH;FMTTYPE=image/jpeg:https://historicalbeaverdamlodge.com/wp-content/uploads/2023/02/pokernight.jpg
END:VEVENT
BEGIN:VEVENT
DTSTART;TZID=America/Phoenix:20230306T180000
DTEND;TZID=America/Phoenix:20230306T220000
DTSTAMP:20260421T075617
CREATED:20230224T195009Z
LAST-MODIFIED:20230224T195513Z
UID:2591-1678125600-1678140000@historicalbeaverdamlodge.com
SUMMARY:Poker Night
DESCRIPTION:Poker Night. EVERY Monday at The Lodge at 5pm AZ/4pm NV.\nLast Monday\, the winner walked away with $50 in gift cards and the pots are getting larger every week!\nCall 928-347-2222 or swing by The Lodge to sign up.
URL:https://historicalbeaverdamlodge.com/event/poker-night-2/
LOCATION:Historical Beaver Dam Lodge\, 452 Old Highway 91 North\, Beaver Dam\, AZ\, 86432\, United States
CATEGORIES:Poker Night
ATTACH;FMTTYPE=image/jpeg:https://historicalbeaverdamlodge.com/wp-content/uploads/2023/02/pokernight.jpg
END:VEVENT
BEGIN:VEVENT
DTSTART;TZID=America/Phoenix:20230227T180000
DTEND;TZID=America/Phoenix:20230227T220000
DTSTAMP:20260421T075617
CREATED:20230224T184345Z
LAST-MODIFIED:20230224T184345Z
UID:2590-1677520800-1677535200@historicalbeaverdamlodge.com
SUMMARY:Poker Night
DESCRIPTION:Poker Night. EVERY Monday at The Lodge at 5pm AZ/4pm NV.\nLast Monday\, the winner walked away with $50 in gift cards and the pots are getting larger every week!\nCall 928-347-2222 or swing by The Lodge to sign up.
URL:https://historicalbeaverdamlodge.com/event/poker-night/
LOCATION:Historical Beaver Dam Lodge\, 452 Old Highway 91 North\, Beaver Dam\, AZ\, 86432\, United States
CATEGORIES:Poker Night
ATTACH;FMTTYPE=image/jpeg:https://historicalbeaverdamlodge.com/wp-content/uploads/2023/02/pokernight.jpg
END:VEVENT
END:VCALENDAR