BEGIN:VCALENDAR
VERSION:2.0
PRODID:-//Historical Beaver Dam Lodge - ECPv6.15.20//NONSGML v1.0//EN
CALSCALE:GREGORIAN
METHOD:PUBLISH
X-ORIGINAL-URL:https://historicalbeaverdamlodge.com
X-WR-CALDESC:Events for Historical Beaver Dam Lodge
REFRESH-INTERVAL;VALUE=DURATION:PT1H
X-Robots-Tag:noindex
X-PUBLISHED-TTL:PT1H
BEGIN:VTIMEZONE
TZID:America/Phoenix
BEGIN:STANDARD
TZOFFSETFROM:-0700
TZOFFSETTO:-0700
TZNAME:MST
DTSTART:20210101T000000
END:STANDARD
END:VTIMEZONE
BEGIN:VEVENT
DTSTART;TZID=America/Phoenix:20230120T180000
DTEND;TZID=America/Phoenix:20230120T210000
DTSTAMP:20260425T194234
CREATED:20230106T204409Z
LAST-MODIFIED:20230106T204409Z
UID:2585-1674237600-1674248400@historicalbeaverdamlodge.com
SUMMARY:Law & Order O.P.U.
DESCRIPTION:Reserve your seats now: 928-347-2222
URL:https://historicalbeaverdamlodge.com/event/law-order-o-p-u-2/
LOCATION:Historical Beaver Dam Lodge\, 452 Old Highway 91 North\, Beaver Dam\, AZ\, 86432\, United States
CATEGORIES:Special Event
ATTACH;FMTTYPE=image/jpeg:https://historicalbeaverdamlodge.com/wp-content/uploads/2023/01/murdermystery.jpeg
END:VEVENT
BEGIN:VEVENT
DTSTART;TZID=America/Phoenix:20230119T180000
DTEND;TZID=America/Phoenix:20230119T210000
DTSTAMP:20260425T194234
CREATED:20230106T204255Z
LAST-MODIFIED:20230106T204255Z
UID:2582-1674151200-1674162000@historicalbeaverdamlodge.com
SUMMARY:Law & Order O.P.U.
DESCRIPTION:Reserve your seats now: 928-347-2222
URL:https://historicalbeaverdamlodge.com/event/law-order-o-p-u/
LOCATION:Historical Beaver Dam Lodge\, 452 Old Highway 91 North\, Beaver Dam\, AZ\, 86432\, United States
CATEGORIES:Special Event
ATTACH;FMTTYPE=image/jpeg:https://historicalbeaverdamlodge.com/wp-content/uploads/2023/01/murdermystery.jpeg
END:VEVENT
BEGIN:VEVENT
DTSTART;TZID=America/Phoenix:20220401T170000
DTEND;TZID=America/Phoenix:20220401T200000
DTSTAMP:20260425T194234
CREATED:20220221T222431Z
LAST-MODIFIED:20220221T223456Z
UID:2443-1648832400-1648843200@historicalbeaverdamlodge.com
SUMMARY:Law & Odor OPU
DESCRIPTION:“Law & Odor\, O.P.U. finds Crisco and Slogan working the Olfactory Police Unit. At O.P.U. they only get the cases that really stink.” Read the article published by Teri Nehrenz\, in Mesquite Today. \nJoin us for this interactive show. Ticket includes a 3 course dinner & the theatrical show. A portion of the proceeds will benefit a local non-profit. \nDoors open at 4pm\, show begins at 5pm.\nReservations required\, please call 928-347-2222 to purchase your tickets.
URL:https://historicalbeaverdamlodge.com/event/law-odor-opu/
LOCATION:Historical Beaver Dam Lodge\, 452 Old Highway 91 North\, Beaver Dam\, AZ\, 86432\, United States
CATEGORIES:Food Special,Special Event
ATTACH;FMTTYPE=image/jpeg:https://historicalbeaverdamlodge.com/wp-content/uploads/2022/02/law-and-oder-poster-draft-one.jpeg
END:VEVENT
BEGIN:VEVENT
DTSTART;TZID=America/Phoenix:20220226T193000
DTEND;TZID=America/Phoenix:20220226T223000
DTSTAMP:20260425T194234
CREATED:20220202T210524Z
LAST-MODIFIED:20220202T210524Z
UID:2440-1645903800-1645914600@historicalbeaverdamlodge.com
SUMMARY:RV Guest Free Dinner Night
DESCRIPTION:
URL:https://historicalbeaverdamlodge.com/event/rv-guest-free-dinner-night/
LOCATION:Historical Beaver Dam Lodge\, 452 Old Highway 91 North\, Beaver Dam\, AZ\, 86432\, United States
CATEGORIES:Food Special,Special Event
END:VEVENT
BEGIN:VEVENT
DTSTART;TZID=America/Phoenix:20220222T180000
DTEND;TZID=America/Phoenix:20220222T210000
DTSTAMP:20260425T194234
CREATED:20220202T210432Z
LAST-MODIFIED:20220202T210432Z
UID:2438-1645552800-1645563600@historicalbeaverdamlodge.com
SUMMARY:Spring Flower Pot
DESCRIPTION:
URL:https://historicalbeaverdamlodge.com/event/spring-flower-pot/
LOCATION:Historical Beaver Dam Lodge\, 452 Old Highway 91 North\, Beaver Dam\, AZ\, 86432\, United States
CATEGORIES:Special Event
END:VEVENT
BEGIN:VEVENT
DTSTART;TZID=America/Phoenix:20220213T173000
DTEND;TZID=America/Phoenix:20220213T203000
DTSTAMP:20260425T194234
CREATED:20220202T202844Z
LAST-MODIFIED:20220202T202844Z
UID:1908-1644773400-1644784200@historicalbeaverdamlodge.com
SUMMARY:Super Bowl
DESCRIPTION:
URL:https://historicalbeaverdamlodge.com/event/super-bowl/
LOCATION:Historical Beaver Dam Lodge\, 452 Old Highway 91 North\, Beaver Dam\, AZ\, 86432\, United States
CATEGORIES:Special Event
END:VEVENT
BEGIN:VEVENT
DTSTART;TZID=America/Phoenix:20220201T100000
DTEND;TZID=America/Phoenix:20220201T120000
DTSTAMP:20260425T194234
CREATED:20220202T202041Z
LAST-MODIFIED:20220202T205558Z
UID:1900-1643709600-1643716800@historicalbeaverdamlodge.com
SUMMARY:Donuts and Coffee
DESCRIPTION:Complimentary Donuts & Coffee for our RV Guests
URL:https://historicalbeaverdamlodge.com/event/donuts-coffee/
LOCATION:Historical Beaver Dam Lodge\, 452 Old Highway 91 North\, Beaver Dam\, AZ\, 86432\, United States
CATEGORIES:Special Event
END:VEVENT
BEGIN:VEVENT
DTSTART;TZID=America/Phoenix:20220125T190000
DTEND;TZID=America/Phoenix:20220125T220000
DTSTAMP:20260425T194234
CREATED:20220105T082330Z
LAST-MODIFIED:20220105T082330Z
UID:1883-1643137200-1643148000@historicalbeaverdamlodge.com
SUMMARY:Mixology Class
DESCRIPTION:This Special Event has a fee\, please contact us for more information.
URL:https://historicalbeaverdamlodge.com/event/mixology-class/
LOCATION:Historical Beaver Dam Lodge\, 452 Old Highway 91 North\, Beaver Dam\, AZ\, 86432\, United States
CATEGORIES:Special Event
END:VEVENT
BEGIN:VEVENT
DTSTART;TZID=America/Phoenix:20220122T200000
DTEND;TZID=America/Phoenix:20220122T220000
DTSTAMP:20260425T194234
CREATED:20220105T082138Z
LAST-MODIFIED:20220105T082138Z
UID:1880-1642881600-1642888800@historicalbeaverdamlodge.com
SUMMARY:RV Completed Dinner
DESCRIPTION:
URL:https://historicalbeaverdamlodge.com/event/rv-completed-dinner-2/
LOCATION:Historical Beaver Dam Lodge\, 452 Old Highway 91 North\, Beaver Dam\, AZ\, 86432\, United States
CATEGORIES:Special Event
END:VEVENT
BEGIN:VEVENT
DTSTART;TZID=America/Phoenix:20220118T190000
DTEND;TZID=America/Phoenix:20220118T220000
DTSTAMP:20260425T194234
CREATED:20220105T082224Z
LAST-MODIFIED:20220105T082224Z
UID:1881-1642532400-1642543200@historicalbeaverdamlodge.com
SUMMARY:Wine Tasting
DESCRIPTION:This Special Event has a fee\, contact us for more details.
URL:https://historicalbeaverdamlodge.com/event/wine-tasting/
LOCATION:Historical Beaver Dam Lodge\, 452 Old Highway 91 North\, Beaver Dam\, AZ\, 86432\, United States
CATEGORIES:Special Event
END:VEVENT
BEGIN:VEVENT
DTSTART;TZID=America/Phoenix:20220115T200000
DTEND;TZID=America/Phoenix:20220115T220000
DTSTAMP:20260425T194234
CREATED:20220105T082025Z
LAST-MODIFIED:20220105T082117Z
UID:1869-1642276800-1642284000@historicalbeaverdamlodge.com
SUMMARY:RV Completed Dinner
DESCRIPTION:
URL:https://historicalbeaverdamlodge.com/event/rv-completed-dinner/
LOCATION:Historical Beaver Dam Lodge\, 452 Old Highway 91 North\, Beaver Dam\, AZ\, 86432\, United States
CATEGORIES:Special Event
END:VEVENT
END:VCALENDAR